BEGIN:VCALENDAR
VERSION:2.0
PRODID:-//Tukios.com/
BEGIN:VEVENT
UID:1c9462dc-2c3d-4039-b6e3-f0aadf2fa8b4@www.myfuneralhome.com
DTSTAMP:20260421T012704Z
DTSTART:20260505T143000Z
DTEND:20260505T150000Z
SUMMARY:Visitation
DESCRIPTION:
URL:https://www.myfuneralhome.com/obituaries/lewis-frantz
LOCATION: 1900 S Las Vegas Trail  Fort Worth TX 76108
GEO:32.7402415;-97.4678857
END:VEVENT
END:VCALENDAR