BEGIN:VCALENDAR
VERSION:2.0
PRODID:-//Tukios.com/
BEGIN:VEVENT
UID:708cde67-02f4-43a1-8a89-ce385ac4b75c@www.myfuneralhome.com
DTSTAMP:20260421T012322Z
DTSTART:20260505T150000Z
DTEND:20260505T160000Z
SUMMARY:Funeral Service
DESCRIPTION:
URL:https://www.myfuneralhome.com/obituaries/lewis-frantz
LOCATION: 1900 S Las Vegas Trail  Fort Worth TX 76108
GEO:32.7402415;-97.4678857
END:VEVENT
END:VCALENDAR