BEGIN:VCALENDAR
VERSION:2.0
PRODID:-//Tukios.com/
BEGIN:VEVENT
UID:aa21fe12-1ef9-4e3d-a522-bd8e1fa59800@www.myfuneralhome.com
DTSTAMP:20260421T012527Z
DTSTART:20260505T180000Z
DTEND:20260505T183000Z
SUMMARY:Burial
DESCRIPTION:
URL:https://www.myfuneralhome.com/obituaries/lewis-frantz
LOCATION: 2000 Mountain Creek Pkwy  Dallas TX 75211
GEO:32.7156123;-96.9421747
END:VEVENT
END:VCALENDAR